BEGIN:VCALENDAR
VERSION:2.0
PRODID:-//50.87.249.17//NONSGML kigkonsult.se iCalcreator 2.26.9//
CALSCALE:GREGORIAN
METHOD:PUBLISH
X-WR-CALNAME:Canning Club
X-WR-CALDESC:One Club Many Disciplines
X-FROM-URL:https://canningclub.com.au
X-WR-TIMEZONE:Australia/Perth
BEGIN:VTIMEZONE
TZID:Australia/Perth
X-LIC-LOCATION:Australia/Perth
BEGIN:STANDARD
DTSTART:20090329T030000
TZOFFSETFROM:+0900
TZOFFSETTO:+0800
TZNAME:AWST
END:STANDARD
END:VTIMEZONE
BEGIN:VEVENT
UID:ai1ec-3328@canningclub.com.au
DTSTAMP:20200225T063531Z
CATEGORIES:
CONTACT:info@canningclub.com.au
DESCRIPTION:Air Pistol is shot on the 10 meter indoor range.
DTSTART;TZID=Australia/Perth:20200115T170000
DTEND;TZID=Australia/Perth:20200115T190000
LOCATION:Canning Club Inc @ 166 Johnson Road Canning Vale
RDATE;TZID=Australia/Perth:20200122T170000
RDATE;TZID=Australia/Perth:20200129T170000
RDATE;TZID=Australia/Perth:20200205T170000
RDATE;TZID=Australia/Perth:20200212T170000
RDATE;TZID=Australia/Perth:20200219T170000
RDATE;TZID=Australia/Perth:20200226T170000
RDATE;TZID=Australia/Perth:20200304T170000
RDATE;TZID=Australia/Perth:20200311T170000
RDATE;TZID=Australia/Perth:20200318T170000
RDATE;TZID=Australia/Perth:20200325T170000
RDATE;TZID=Australia/Perth:20200401T170000
RDATE;TZID=Australia/Perth:20200408T170000
RDATE;TZID=Australia/Perth:20200415T170000
RDATE;TZID=Australia/Perth:20200422T170000
RDATE;TZID=Australia/Perth:20200429T170000
RDATE;TZID=Australia/Perth:20200506T170000
RDATE;TZID=Australia/Perth:20200513T170000
RDATE;TZID=Australia/Perth:20200520T170000
RDATE;TZID=Australia/Perth:20200527T170000
RDATE;TZID=Australia/Perth:20200603T170000
RDATE;TZID=Australia/Perth:20200610T170000
RDATE;TZID=Australia/Perth:20200617T170000
RDATE;TZID=Australia/Perth:20200624T170000
RDATE;TZID=Australia/Perth:20200701T170000
RDATE;TZID=Australia/Perth:20200708T170000
RDATE;TZID=Australia/Perth:20200715T170000
RDATE;TZID=Australia/Perth:20200722T170000
RDATE;TZID=Australia/Perth:20200729T170000
RDATE;TZID=Australia/Perth:20200805T170000
RDATE;TZID=Australia/Perth:20200812T170000
RDATE;TZID=Australia/Perth:20200819T170000
RDATE;TZID=Australia/Perth:20200826T170000
RDATE;TZID=Australia/Perth:20200902T170000
RDATE;TZID=Australia/Perth:20200909T170000
RDATE;TZID=Australia/Perth:20200916T170000
RDATE;TZID=Australia/Perth:20200923T170000
RDATE;TZID=Australia/Perth:20200930T170000
RDATE;TZID=Australia/Perth:20201007T170000
RDATE;TZID=Australia/Perth:20201014T170000
RDATE;TZID=Australia/Perth:20201021T170000
RDATE;TZID=Australia/Perth:20201028T170000
RDATE;TZID=Australia/Perth:20201104T170000
RDATE;TZID=Australia/Perth:20201111T170000
RDATE;TZID=Australia/Perth:20201118T170000
RDATE;TZID=Australia/Perth:20201125T170000
RDATE;TZID=Australia/Perth:20201202T170000
RDATE;TZID=Australia/Perth:20201209T170000
SEQUENCE:0
SUMMARY:Air Pistol
URL:https://canningclub.com.au/event/air-pistol-2/
X-COST-TYPE:free
X-ALT-DESC;FMTTYPE=text/html:<!DOCTYPE HTML PUBLIC '-//W3C//DTD HTML 3.2//E
 N'>\\n<HTML>\\n<HEAD>\\n<TITLE></TITLE>\\n</HEAD>\\n<BODY><p>Air Pistol is
  shot on the 10 meter indoor range.</p>\n</BODY></HTML>
END:VEVENT
END:VCALENDAR
