BEGIN:VCALENDAR
VERSION:2.0
PRODID:-//50.87.249.17//NONSGML kigkonsult.se iCalcreator 2.26.9//
CALSCALE:GREGORIAN
METHOD:PUBLISH
X-WR-CALNAME:Canning Club
X-WR-CALDESC:One Club Many Disciplines
X-FROM-URL:https://canningclub.com.au
X-WR-TIMEZONE:Australia/Perth
BEGIN:VTIMEZONE
TZID:Australia/Perth
X-LIC-LOCATION:Australia/Perth
BEGIN:STANDARD
DTSTART:20090329T030000
TZOFFSETFROM:+0900
TZOFFSETTO:+0800
TZNAME:AWST
END:STANDARD
END:VTIMEZONE
BEGIN:VEVENT
UID:ai1ec-3329@canningclub.com.au
DTSTAMP:20200229T095427Z
CATEGORIES:
CONTACT:info@canningclub.com.au
DESCRIPTION:Air Pistol is shot on the 10 meter indoor range
DTSTART;TZID=Australia/Perth:20200125T100000
DTEND;TZID=Australia/Perth:20200125T123000
LOCATION:Canning Club Inc @ 166 Johnson Road Canning Vale
RDATE;TZID=Australia/Perth:20200222T100000
RDATE;TZID=Australia/Perth:20200328T100000
RDATE;TZID=Australia/Perth:20200425T100000
RDATE;TZID=Australia/Perth:20200523T100000
RDATE;TZID=Australia/Perth:20200627T100000
RDATE;TZID=Australia/Perth:20200725T100000
RDATE;TZID=Australia/Perth:20200822T100000
RDATE;TZID=Australia/Perth:20200926T100000
RDATE;TZID=Australia/Perth:20201024T100000
RDATE;TZID=Australia/Perth:20201128T100000
SEQUENCE:0
SUMMARY:Air Pistol
URL:https://canningclub.com.au/event/air-pistol-3/
X-COST-TYPE:free
X-ALT-DESC;FMTTYPE=text/html:<!DOCTYPE HTML PUBLIC '-//W3C//DTD HTML 3.2//E
 N'>\\n<HTML>\\n<HEAD>\\n<TITLE></TITLE>\\n</HEAD>\\n<BODY><p>Air Pistol is
  shot on the 10 meter indoor range</p>\n</BODY></HTML>
END:VEVENT
END:VCALENDAR
