BEGIN:VCALENDAR
VERSION:2.0
PRODID:-//50.87.249.17//NONSGML kigkonsult.se iCalcreator 2.26.9//
CALSCALE:GREGORIAN
METHOD:PUBLISH
X-WR-CALNAME:Canning Club
X-WR-CALDESC:One Club Many Disciplines
X-FROM-URL:https://canningclub.com.au
X-WR-TIMEZONE:Australia/Perth
BEGIN:VTIMEZONE
TZID:Australia/Perth
X-LIC-LOCATION:Australia/Perth
BEGIN:STANDARD
DTSTART:20090329T030000
TZOFFSETFROM:+0900
TZOFFSETTO:+0800
TZNAME:AWST
END:STANDARD
END:VTIMEZONE
BEGIN:VEVENT
UID:ai1ec-3331@canningclub.com.au
DTSTAMP:20200229T091729Z
CATEGORIES:
CONTACT:info@canningclub.com.au
DESCRIPTION:
DTSTART;TZID=Australia/Perth:20200118T093000
DTEND;TZID=Australia/Perth:20200118T113000
LOCATION:Canning Club Inc @ 166 Johnson Road Canning Vale
RDATE;TZID=Australia/Perth:20200201T093000
RDATE;TZID=Australia/Perth:20200215T093000
RDATE;TZID=Australia/Perth:20200229T093000
RDATE;TZID=Australia/Perth:20200307T093000
RDATE;TZID=Australia/Perth:20200321T093000
RDATE;TZID=Australia/Perth:20200404T093000
RDATE;TZID=Australia/Perth:20200418T093000
RDATE;TZID=Australia/Perth:20200502T093000
RDATE;TZID=Australia/Perth:20200516T093000
RDATE;TZID=Australia/Perth:20200530T093000
RDATE;TZID=Australia/Perth:20200606T093000
RDATE;TZID=Australia/Perth:20200620T093000
RDATE;TZID=Australia/Perth:20200704T093000
RDATE;TZID=Australia/Perth:20200718T093000
RDATE;TZID=Australia/Perth:20200801T093000
RDATE;TZID=Australia/Perth:20200829T093000
RDATE;TZID=Australia/Perth:20200905T093000
RDATE;TZID=Australia/Perth:20200919T093000
RDATE;TZID=Australia/Perth:20201003T093000
RDATE;TZID=Australia/Perth:20201017T093000
RDATE;TZID=Australia/Perth:20201031T093000
RDATE;TZID=Australia/Perth:20201107T093000
RDATE;TZID=Australia/Perth:20201121T093000
RDATE;TZID=Australia/Perth:20201205T093000
SEQUENCE:0
SUMMARY:Action Match
URL:https://canningclub.com.au/event/action-match/
X-COST-TYPE:free
END:VEVENT
END:VCALENDAR
