BEGIN:VCALENDAR
VERSION:2.0
PRODID:-//50.87.249.17//NONSGML kigkonsult.se iCalcreator 2.26.9//
CALSCALE:GREGORIAN
METHOD:PUBLISH
X-WR-CALNAME:Canning Club
X-WR-CALDESC:One Club Many Disciplines
X-FROM-URL:https://canningclub.com.au
X-WR-TIMEZONE:Australia/Perth
BEGIN:VTIMEZONE
TZID:Australia/Perth
X-LIC-LOCATION:Australia/Perth
BEGIN:STANDARD
DTSTART:20090329T030000
TZOFFSETFROM:+0900
TZOFFSETTO:+0800
TZNAME:AWST
END:STANDARD
END:VTIMEZONE
BEGIN:VEVENT
UID:ai1ec-3334@canningclub.com.au
DTSTAMP:20200225T063815Z
CATEGORIES:
CONTACT:info@canningclub.com.au
DESCRIPTION:Range One
DTSTART;TZID=Australia/Perth:20200115T173000
DTEND;TZID=Australia/Perth:20200115T193000
LOCATION:Canning Club @ 166 Johnson Road Canning Vale
RDATE;TZID=Australia/Perth:20200212T173000
RDATE;TZID=Australia/Perth:20200226T173000
RDATE;TZID=Australia/Perth:20200311T173000
RDATE;TZID=Australia/Perth:20200325T173000
RDATE;TZID=Australia/Perth:20200408T173000
RDATE;TZID=Australia/Perth:20200422T173000
RDATE;TZID=Australia/Perth:20200506T173000
RDATE;TZID=Australia/Perth:20200520T173000
RDATE;TZID=Australia/Perth:20200603T173000
RDATE;TZID=Australia/Perth:20200617T173000
RDATE;TZID=Australia/Perth:20200701T173000
RDATE;TZID=Australia/Perth:20200715T173000
RDATE;TZID=Australia/Perth:20200729T173000
RDATE;TZID=Australia/Perth:20200812T173000
RDATE;TZID=Australia/Perth:20200826T173000
RDATE;TZID=Australia/Perth:20200909T173000
RDATE;TZID=Australia/Perth:20200923T173000
RDATE;TZID=Australia/Perth:20201007T173000
RDATE;TZID=Australia/Perth:20201021T173000
RDATE;TZID=Australia/Perth:20201104T173000
RDATE;TZID=Australia/Perth:20201118T173000
RDATE;TZID=Australia/Perth:20201202T173000
SEQUENCE:0
SUMMARY:Canning Field Pistol – Range 1
URL:https://canningclub.com.au/event/canning-field-pistol-range-1/
X-COST-TYPE:free
X-ALT-DESC;FMTTYPE=text/html:<!DOCTYPE HTML PUBLIC '-//W3C//DTD HTML 3.2//E
 N'>\\n<HTML>\\n<HEAD>\\n<TITLE></TITLE>\\n</HEAD>\\n<BODY><p>Range One</p>
 \n</BODY></HTML>
END:VEVENT
END:VCALENDAR
