BEGIN:VCALENDAR
VERSION:2.0
PRODID:-//50.87.249.17//NONSGML kigkonsult.se iCalcreator 2.26.9//
CALSCALE:GREGORIAN
METHOD:PUBLISH
X-WR-CALNAME:Canning Club
X-WR-CALDESC:One Club Many Disciplines
X-FROM-URL:https://canningclub.com.au
X-WR-TIMEZONE:Australia/Perth
BEGIN:VTIMEZONE
TZID:Australia/Perth
X-LIC-LOCATION:Australia/Perth
BEGIN:STANDARD
DTSTART:20090329T030000
TZOFFSETFROM:+0900
TZOFFSETTO:+0800
TZNAME:AWST
END:STANDARD
END:VTIMEZONE
BEGIN:VEVENT
UID:ai1ec-3336@canningclub.com.au
DTSTAMP:20200229T092040Z
CATEGORIES:
CONTACT:info@canningclub.com.au\; www.canningclub.com.au
DESCRIPTION:<p>Range One</p>
DTSTART;TZID=Australia/Perth:20200118T123000
DTEND;TZID=Australia/Perth:20200118T143000
LOCATION:Canning Club @ 166 Johnson Road Canning Vale
RDATE;TZID=Australia/Perth:20200215T123000
RDATE;TZID=Australia/Perth:20200229T123000
RDATE;TZID=Australia/Perth:20200321T123000
RDATE;TZID=Australia/Perth:20200418T123000
RDATE;TZID=Australia/Perth:20200516T123000
RDATE;TZID=Australia/Perth:20200530T123000
RDATE;TZID=Australia/Perth:20200620T123000
RDATE;TZID=Australia/Perth:20200718T123000
RDATE;TZID=Australia/Perth:20200829T123000
RDATE;TZID=Australia/Perth:20200919T123000
RDATE;TZID=Australia/Perth:20201017T123000
RDATE;TZID=Australia/Perth:20201031T123000
RDATE;TZID=Australia/Perth:20201121T123000
SEQUENCE:0
SUMMARY:Canning Mandar – Range 1
URL:https://canningclub.com.au/event/canning-mandar-range-1/
X-COST-TYPE:free
END:VEVENT
END:VCALENDAR
