BEGIN:VCALENDAR
VERSION:2.0
PRODID:-//50.87.249.17//NONSGML kigkonsult.se iCalcreator 2.26.9//
CALSCALE:GREGORIAN
METHOD:PUBLISH
X-WR-CALNAME:Canning Club
X-WR-CALDESC:One Club Many Disciplines
X-FROM-URL:https://canningclub.com.au
X-WR-TIMEZONE:Australia/Perth
BEGIN:VTIMEZONE
TZID:Australia/Perth
X-LIC-LOCATION:Australia/Perth
BEGIN:STANDARD
DTSTART:20090329T030000
TZOFFSETFROM:+0900
TZOFFSETTO:+0800
TZNAME:AWST
END:STANDARD
END:VTIMEZONE
BEGIN:VEVENT
UID:ai1ec-3343@canningclub.com.au
DTSTAMP:20200229T095722Z
CATEGORIES:
CONTACT:info@canningclub.com.au
DESCRIPTION:All Ranges Closed for the AGM
DTSTART;TZID=Australia/Perth:20200815T123000
DTEND;TZID=Australia/Perth:20200815T150000
LOCATION:Canning Club @ 166 Johnson Road Canning Vale
SEQUENCE:0
SUMMARY:Annual General Meeting
URL:https://canningclub.com.au/event/annual-general-meeting/
X-COST-TYPE:free
X-ALT-DESC;FMTTYPE=text/html:<!DOCTYPE HTML PUBLIC '-//W3C//DTD HTML 3.2//E
 N'>\\n<HTML>\\n<HEAD>\\n<TITLE></TITLE>\\n</HEAD>\\n<BODY><p>All Ranges Cl
 osed for the AGM</p>\n</BODY></HTML>
END:VEVENT
END:VCALENDAR
