BEGIN:VCALENDAR
VERSION:2.0
PRODID:-//50.87.249.17//NONSGML kigkonsult.se iCalcreator 2.26.9//
CALSCALE:GREGORIAN
METHOD:PUBLISH
X-WR-CALNAME:Canning Club
X-WR-CALDESC:One Club Many Disciplines
X-FROM-URL:https://canningclub.com.au
X-WR-TIMEZONE:Australia/Perth
BEGIN:VTIMEZONE
TZID:Australia/Perth
X-LIC-LOCATION:Australia/Perth
BEGIN:STANDARD
DTSTART:20090329T030000
TZOFFSETFROM:+0900
TZOFFSETTO:+0800
TZNAME:AWST
END:STANDARD
END:VTIMEZONE
BEGIN:VEVENT
UID:ai1ec-3346@canningclub.com.au
DTSTAMP:20200225T064013Z
CATEGORIES:
CONTACT:info@canningclub.com.au
DESCRIPTION:<p>Range Two  – Three positional rifle</p>
DTSTART;TZID=Australia/Perth:20200129T190000
DTEND;TZID=Australia/Perth:20200129T203000
LOCATION:Canning Club Inc @ 166 Johnson Road Canning Vale
RDATE;TZID=Australia/Perth:20200226T190000
RDATE;TZID=Australia/Perth:20200325T190000
RDATE;TZID=Australia/Perth:20200422T190000
RDATE;TZID=Australia/Perth:20200520T190000
RDATE;TZID=Australia/Perth:20200617T190000
RDATE;TZID=Australia/Perth:20200715T190000
RDATE;TZID=Australia/Perth:20200812T190000
RDATE;TZID=Australia/Perth:20200909T190000
RDATE;TZID=Australia/Perth:20201007T190000
RDATE;TZID=Australia/Perth:20201104T190000
RDATE;TZID=Australia/Perth:20201202T190000
SEQUENCE:0
SUMMARY:3P Rifle – Range 2
URL:https://canningclub.com.au/event/3p-rifle-range-2/
X-COST-TYPE:free
END:VEVENT
END:VCALENDAR
