BEGIN:VCALENDAR
VERSION:2.0
PRODID:-//50.87.249.17//NONSGML kigkonsult.se iCalcreator 2.26.9//
CALSCALE:GREGORIAN
METHOD:PUBLISH
X-WR-CALNAME:Canning Club
X-WR-CALDESC:One Club Many Disciplines
X-FROM-URL:https://canningclub.com.au
X-WR-TIMEZONE:Australia/Perth
BEGIN:VTIMEZONE
TZID:Australia/Perth
X-LIC-LOCATION:Australia/Perth
BEGIN:STANDARD
DTSTART:20090329T030000
TZOFFSETFROM:+0900
TZOFFSETTO:+0800
TZNAME:AWST
END:STANDARD
END:VTIMEZONE
BEGIN:VEVENT
UID:ai1ec-3347@canningclub.com.au
DTSTAMP:20200229T095846Z
CATEGORIES:
CONTACT:info@canningclub.com.au\; www.canningclub.com.au
DESCRIPTION:
DTSTART;TZID=Australia/Perth:20200208T123000
DTEND;TZID=Australia/Perth:20200208T143000
LOCATION:Canning Club @ 166 Johnson Road Canning Vale
RDATE;TZID=Australia/Perth:20200314T123000
RDATE;TZID=Australia/Perth:20200411T123000
RDATE;TZID=Australia/Perth:20200509T123000
RDATE;TZID=Australia/Perth:20200613T123000
RDATE;TZID=Australia/Perth:20200711T123000
RDATE;TZID=Australia/Perth:20200808T123000
RDATE;TZID=Australia/Perth:20200912T123000
RDATE;TZID=Australia/Perth:20201010T123000
RDATE;TZID=Australia/Perth:20201114T123000
RDATE;TZID=Australia/Perth:20201212T123000
SEQUENCE:0
SUMMARY:Canning Field Pistol
URL:https://canningclub.com.au/event/canning-field-pistol/
X-COST-TYPE:free
END:VEVENT
END:VCALENDAR
