BEGIN:VCALENDAR
VERSION:2.0
PRODID:-//50.87.249.17//NONSGML kigkonsult.se iCalcreator 2.26.9//
CALSCALE:GREGORIAN
METHOD:PUBLISH
X-WR-CALNAME:Canning Club
X-WR-CALDESC:One Club Many Disciplines
X-FROM-URL:https://canningclub.com.au
X-WR-TIMEZONE:Australia/Perth
BEGIN:VTIMEZONE
TZID:Australia/Perth
X-LIC-LOCATION:Australia/Perth
BEGIN:STANDARD
DTSTART:20090329T030000
TZOFFSETFROM:+0900
TZOFFSETTO:+0800
TZNAME:AWST
END:STANDARD
END:VTIMEZONE
BEGIN:VEVENT
UID:ai1ec-3348@canningclub.com.au
DTSTAMP:20200229T092308Z
CATEGORIES:
CONTACT:info@canningclub.com.au\; www.canningclub.com.au
DESCRIPTION:
DTSTART;TZID=Australia/Perth:20200119T090000
DTEND;TZID=Australia/Perth:20200119T120000
LOCATION:Canning Club @ 166 Johnson Road Canning Vale
RDATE;TZID=Australia/Perth:20200202T090000
RDATE;TZID=Australia/Perth:20200216T090000
RDATE;TZID=Australia/Perth:20200301T090000
RDATE;TZID=Australia/Perth:20200315T090000
RDATE;TZID=Australia/Perth:20200329T090000
RDATE;TZID=Australia/Perth:20200412T090000
RDATE;TZID=Australia/Perth:20200426T090000
RDATE;TZID=Australia/Perth:20200510T090000
RDATE;TZID=Australia/Perth:20200524T090000
RDATE;TZID=Australia/Perth:20200607T090000
RDATE;TZID=Australia/Perth:20200621T090000
RDATE;TZID=Australia/Perth:20200705T090000
RDATE;TZID=Australia/Perth:20200719T090000
RDATE;TZID=Australia/Perth:20200802T090000
RDATE;TZID=Australia/Perth:20200816T090000
RDATE;TZID=Australia/Perth:20200830T090000
RDATE;TZID=Australia/Perth:20200913T090000
RDATE;TZID=Australia/Perth:20200927T090000
RDATE;TZID=Australia/Perth:20201011T090000
RDATE;TZID=Australia/Perth:20201025T090000
RDATE;TZID=Australia/Perth:20201108T090000
RDATE;TZID=Australia/Perth:20201122T090000
RDATE;TZID=Australia/Perth:20201206T090000
SEQUENCE:0
SUMMARY:Practical Shooting – Ranges 4 & 5
URL:https://canningclub.com.au/event/practical-shooting-ranges-4-5/
X-COST-TYPE:free
END:VEVENT
END:VCALENDAR
