BEGIN:VCALENDAR
VERSION:2.0
PRODID:-//50.87.249.17//NONSGML kigkonsult.se iCalcreator 2.26.9//
CALSCALE:GREGORIAN
METHOD:PUBLISH
X-WR-CALNAME:Canning Club
X-WR-CALDESC:One Club Many Disciplines
X-FROM-URL:https://canningclub.com.au
X-WR-TIMEZONE:Australia/Perth
BEGIN:VTIMEZONE
TZID:Australia/Perth
X-LIC-LOCATION:Australia/Perth
BEGIN:STANDARD
DTSTART:20090329T030000
TZOFFSETFROM:+0900
TZOFFSETTO:+0800
TZNAME:AWST
END:STANDARD
END:VTIMEZONE
BEGIN:VEVENT
UID:ai1ec-3349@canningclub.com.au
DTSTAMP:20200229T094508Z
CATEGORIES:
CONTACT:info@canningclub.com.au\; www.canningclub.com.au
DESCRIPTION:Range 6
DTSTART;TZID=Australia/Perth:20200126T090000
DTEND;TZID=Australia/Perth:20200126T120000
LOCATION:Canning Club @ 166 Johnson Road Canning Vale
RDATE;TZID=Australia/Perth:20200209T090000
RDATE;TZID=Australia/Perth:20200223T090000
RDATE;TZID=Australia/Perth:20200308T090000
RDATE;TZID=Australia/Perth:20200322T090000
RDATE;TZID=Australia/Perth:20200405T090000
RDATE;TZID=Australia/Perth:20200419T090000
RDATE;TZID=Australia/Perth:20200503T090000
RDATE;TZID=Australia/Perth:20200517T090000
RDATE;TZID=Australia/Perth:20200531T090000
RDATE;TZID=Australia/Perth:20200614T090000
RDATE;TZID=Australia/Perth:20200628T090000
RDATE;TZID=Australia/Perth:20200712T090000
RDATE;TZID=Australia/Perth:20200726T090000
RDATE;TZID=Australia/Perth:20200809T090000
RDATE;TZID=Australia/Perth:20200823T090000
RDATE;TZID=Australia/Perth:20200906T090000
RDATE;TZID=Australia/Perth:20200920T090000
RDATE;TZID=Australia/Perth:20201004T090000
RDATE;TZID=Australia/Perth:20201018T090000
RDATE;TZID=Australia/Perth:20201101T090000
RDATE;TZID=Australia/Perth:20201115T090000
RDATE;TZID=Australia/Perth:20201129T090000
RDATE;TZID=Australia/Perth:20201213T090000
SEQUENCE:0
SUMMARY:Single Action – Range 6
URL:https://canningclub.com.au/event/single-action-range-6/
X-COST-TYPE:free
X-ALT-DESC;FMTTYPE=text/html:<!DOCTYPE HTML PUBLIC '-//W3C//DTD HTML 3.2//E
 N'>\\n<HTML>\\n<HEAD>\\n<TITLE></TITLE>\\n</HEAD>\\n<BODY><p>Range 6</p>\n
 </BODY></HTML>
END:VEVENT
END:VCALENDAR
